BEGIN:VCALENDAR
VERSION:2.0
PRODID:-//MS2 Leibnitz - ECPv6.8.1//NONSGML v1.0//EN
CALSCALE:GREGORIAN
METHOD:PUBLISH
X-ORIGINAL-URL:https://www.ms2-leibnitz.at
X-WR-CALDESC:Veranstaltungen für MS2 Leibnitz
REFRESH-INTERVAL;VALUE=DURATION:PT1H
X-Robots-Tag:noindex
X-PUBLISHED-TTL:PT1H
BEGIN:VTIMEZONE
TZID:Europe/Berlin
BEGIN:DAYLIGHT
TZOFFSETFROM:+0100
TZOFFSETTO:+0200
TZNAME:CEST
DTSTART:20210328T010000
END:DAYLIGHT
BEGIN:STANDARD
TZOFFSETFROM:+0200
TZOFFSETTO:+0100
TZNAME:CET
DTSTART:20211031T010000
END:STANDARD
END:VTIMEZONE
BEGIN:VEVENT
DTSTART;TZID=Europe/Berlin:20211005T180000
DTEND;TZID=Europe/Berlin:20211005T200000
DTSTAMP:20260422T114317
CREATED:20211004T101726Z
LAST-MODIFIED:20211004T101726Z
UID:6938-1633456800-1633464000@www.ms2-leibnitz.at
SUMMARY:Klassenforum 2. Klassen
DESCRIPTION: \n\n \n\n 
URL:https://www.ms2-leibnitz.at/termin/klassenforum-2-klassen/
END:VEVENT
BEGIN:VEVENT
DTSTART;TZID=Europe/Berlin:20211005T183000
DTEND;TZID=Europe/Berlin:20211005T203000
DTSTAMP:20260422T114317
CREATED:20211004T101832Z
LAST-MODIFIED:20211004T101832Z
UID:6940-1633458600-1633465800@www.ms2-leibnitz.at
SUMMARY:Klassenforum 3. - 4. Klassen
DESCRIPTION: \n\n \n\n 
URL:https://www.ms2-leibnitz.at/termin/klassenforum-3-4-klassen/
END:VEVENT
BEGIN:VEVENT
DTSTART;VALUE=DATE:20211007
DTEND;VALUE=DATE:20211008
DTSTAMP:20260422T114317
CREATED:20210929T081629Z
LAST-MODIFIED:20210929T081629Z
UID:6931-1633564800-1633651199@www.ms2-leibnitz.at
SUMMARY:Schulärtzliche Untersuchung
DESCRIPTION: \n\n \n\n 
URL:https://www.ms2-leibnitz.at/termin/schulaertzliche-untersuchung/
END:VEVENT
END:VCALENDAR