BEGIN:VCALENDAR
VERSION:2.0
PRODID:-//MS2 Leibnitz - ECPv6.8.1//NONSGML v1.0//EN
CALSCALE:GREGORIAN
METHOD:PUBLISH
X-ORIGINAL-URL:https://www.ms2-leibnitz.at
X-WR-CALDESC:Veranstaltungen für MS2 Leibnitz
REFRESH-INTERVAL;VALUE=DURATION:PT1H
X-Robots-Tag:noindex
X-PUBLISHED-TTL:PT1H
BEGIN:VTIMEZONE
TZID:Europe/Berlin
BEGIN:DAYLIGHT
TZOFFSETFROM:+0100
TZOFFSETTO:+0200
TZNAME:CEST
DTSTART:20210328T010000
END:DAYLIGHT
BEGIN:STANDARD
TZOFFSETFROM:+0200
TZOFFSETTO:+0100
TZNAME:CET
DTSTART:20211031T010000
END:STANDARD
END:VTIMEZONE
BEGIN:VEVENT
DTSTART;TZID=Europe/Berlin:20210223T083000
DTEND;TZID=Europe/Berlin:20210305T123000
DTSTAMP:20260422T235819
CREATED:20210323T112419Z
LAST-MODIFIED:20210323T112419Z
UID:6365-1614069000-1614947400@www.ms2-leibnitz.at
SUMMARY:Anmeldungen für das Schuljahr 2021/22
DESCRIPTION:Das Betreten des Schulhauses ist zum Zweck der Anmeldung Ihres Kindes erlaubt. Der Zutritt ist nur über den Haupteingang (Schulhof) gestattet.\nBitte beachten Sie die Sicherheitsvorschriften (FFP2-Maske\, Handdesinfektion\, Abstandsregel) sowie unsere Bodenmarkierungen und Hinweisschilder.\n\nMontag\, 22.02.2021 : ausnahmslos von 8:30 bis 13:00 und von 14:00 bis 16:00 Uhr\nDienstag\, den 23.02.2021 bis Freitag den 05.03.: ausnahmslos von 08:30 bis 12:30 Uhr\n\nWICHTIG:\nUm die Wartezeit bei der Anmeldung so kurz wie möglich zu halten bitten wir Sie zusätzlich zur Orginal-Schulnachricht auch eine Kopie mitzubringen.\n\n–> Anmeldeformular (ausgefüllt)\n–> Staatsbürgerschaftsnachweis des Kindes oder der Eltern\n–>Geburtsurkunde\n–>Meldezettel\n–>E-Card des Kindes\n–>sowie die Schulnachricht (Original und Kopie) des heurigen Schuljahres\n\nEine Anmeldung für das kommende Schuljahr ist erst mit der Überbringung der Schulnachricht – im Original – gültig. Die Schulnachricht wird von uns gestempelt. Eine Doppelanmeldung ist nicht möglich.
URL:https://www.ms2-leibnitz.at/termin/anmeldungen-fuer-das-schuljahr-2021-22/
END:VEVENT
BEGIN:VEVENT
DTSTART;VALUE=DATE:20210319
DTEND;VALUE=DATE:20210320
DTSTAMP:20260422T235819
CREATED:20210323T112850Z
LAST-MODIFIED:20210323T112850Z
UID:6378-1616112000-1616198399@www.ms2-leibnitz.at
SUMMARY:Landespatron
DESCRIPTION:
URL:https://www.ms2-leibnitz.at/termin/landespatron/
END:VEVENT
BEGIN:VEVENT
DTSTART;VALUE=DATE:20210329
DTEND;VALUE=DATE:20210406
DTSTAMP:20260422T235819
CREATED:20210323T114359Z
LAST-MODIFIED:20210323T114359Z
UID:6382-1616976000-1617667199@www.ms2-leibnitz.at
SUMMARY:Osterferien
DESCRIPTION:
URL:https://www.ms2-leibnitz.at/termin/osterferien/
END:VEVENT
END:VCALENDAR